
BEGIN:VCALENDAR
VERSION:2.0
PRODID:-//California Agricultural Leadership Foundation - ECPv6.15.12.2//NONSGML v1.0//EN
BEGIN:VTIMEZONE
TZID:America/Los_Angeles
BEGIN:DAYLIGHT
TZOFFSETFROM:-0800
TZOFFSETTO:-0700
TZNAME:PDT
DTSTART:20240310T100000
END:DAYLIGHT
BEGIN:STANDARD
TZOFFSETFROM:-0700
TZOFFSETTO:-0800
TZNAME:PST
DTSTART:20241103T090000
END:STANDARD
BEGIN:DAYLIGHT
TZOFFSETFROM:-0800
TZOFFSETTO:-0700
TZNAME:PDT
DTSTART:20250309T100000
END:DAYLIGHT
BEGIN:STANDARD
TZOFFSETFROM:-0700
TZOFFSETTO:-0800
TZNAME:PST
DTSTART:20251102T090000
END:STANDARD
BEGIN:DAYLIGHT
TZOFFSETFROM:-0800
TZOFFSETTO:-0700
TZNAME:PDT
DTSTART:20260308T100000
END:DAYLIGHT
BEGIN:STANDARD
TZOFFSETFROM:-0700
TZOFFSETTO:-0800
TZNAME:PST
DTSTART:20261101T090000
END:STANDARD
END:VTIMEZONE
BEGIN:VEVENT
DTSTART;TZID=America/Los_Angeles:20250205T070000
DTEND;TZID=America/Los_Angeles:20250205T090000
DTSTAMP:20260419T095115
UID:4886-1738738800-1738746000@www.agleaders.org
SUMMARY:2025 Colusa Farm Show Breakfast
DESCRIPTION:Join us for an informative discussion about a decade of ag production acreages in California and the Sacramento Valley.  \nTICKETS\n$75 each. Click Purchase Tickets in the sidebar. \nKEYNOTE SPEAKER\nDr. Joel Kimmelshue is the owner and principal soil and agricultural scientist of Land IQ. He has more than 27 years of consulting experience focusing on practical and applied solutions for development and management of agricultural-based systems\, especially irrigated systems. Land IQ\, a Sacramento-based agricultural and remote sensing firm\, has worked extensively with numerous agricultural\, urban and environmental partners. Kimmelshue was raised and worked on a diversified tree and row crop farming operation in Durham and still maintains an ownership and management interest in the family farming operation. He is a member of Class 37 of the California Agricultural Leadership Program. \nSPONSORSHIP OPPORTUNITIES\n \n\n$1\,500 PLATINUM (includes a breakfast table for eight\, recognition in the program and the option to hang a wall banner in the dining hall)\n$1\,000 GOLD (includes six breakfast admissions and recognition in the program)\n$500 SILVER (includes four breakfast admissions and recognition in the program)\n\nFor further information\, please call 530-898-3737 or email mbbressler@csuchico.edu. \n 
LOCATION:Saint Bernadette’s Hall\, 745 Ware Avenue\, Colusa\, CA
END:VEVENT
END:VCALENDAR