
BEGIN:VCALENDAR
VERSION:2.0
PRODID:-//California Agricultural Leadership Foundation - ECPv6.15.12.2//NONSGML v1.0//EN
BEGIN:VTIMEZONE
TZID:America/Los_Angeles
BEGIN:DAYLIGHT
TZOFFSETFROM:-0800
TZOFFSETTO:-0700
TZNAME:PDT
DTSTART:20240310T100000
END:DAYLIGHT
BEGIN:STANDARD
TZOFFSETFROM:-0700
TZOFFSETTO:-0800
TZNAME:PST
DTSTART:20241103T090000
END:STANDARD
BEGIN:DAYLIGHT
TZOFFSETFROM:-0800
TZOFFSETTO:-0700
TZNAME:PDT
DTSTART:20250309T100000
END:DAYLIGHT
BEGIN:STANDARD
TZOFFSETFROM:-0700
TZOFFSETTO:-0800
TZNAME:PST
DTSTART:20251102T090000
END:STANDARD
BEGIN:DAYLIGHT
TZOFFSETFROM:-0800
TZOFFSETTO:-0700
TZNAME:PDT
DTSTART:20260308T100000
END:DAYLIGHT
BEGIN:STANDARD
TZOFFSETFROM:-0700
TZOFFSETTO:-0800
TZNAME:PST
DTSTART:20261101T090000
END:STANDARD
END:VTIMEZONE
BEGIN:VEVENT
DTSTART;TZID=America/Los_Angeles:20250319T110000
DTEND;TZID=America/Los_Angeles:20250319T133000
DTSTAMP:20260424T040502
UID:5236-1742382000-1742391000@www.agleaders.org
SUMMARY:2025 Common Threads Central Valley
DESCRIPTION:Common Threads 29th Annual Awards Luncheon\nThe California Ag Leadership Foundation\, Fresno State’s Jordan College of Agricultural Sciences and Technology and the Ag One Foundation will honor outstanding women in agriculture for their remarkable volunteer efforts and philanthropic contributions within their own communities. The honorees are selected from Fresno\, Kern\, Kings\, Madera\, Merced and Tulare counties. In addition to the new Common Threads honorees\, we will highlight the work of our 143 previous winners. This will be a memorable celebration!  \n11 a.m. – Social\n12 p.m. – Lunch and Ceremony \n2025 Award Recipients\nRenae De Jager – Chowchilla\nCarol Evans – Hanford\nHeidi Michael – Fresno\nDelia Netto – Hanford\nTracy Newton – Sanger\nMaxine Machado – Fresno – Tapestry Award \nTickets\nVery limited seating remains! Please call Mia at 831-585-1030.\n$70 / person \nContact\ncommonthreads@agleaders.org
LOCATION:C.P.D.E.S Portuguese Hall\, 172 W Jefferson Ave.\, Fresno\, CA
END:VEVENT
END:VCALENDAR